Package: ADImpute Version: 1.17.0 Command: rm -rf ADImpute.buildbin-libdir && mkdir ADImpute.buildbin-libdir && E:\biocbuild\bbs-3.21-bioc\R\bin\R.exe CMD INSTALL --build --library=ADImpute.buildbin-libdir ADImpute_1.17.0.tar.gz StartedAt: 2025-02-04 07:25:24 -0500 (Tue, 04 Feb 2025) EndedAt: 2025-02-04 07:26:00 -0500 (Tue, 04 Feb 2025) EllapsedTime: 36.0 seconds RetCode: 0 Status: OK PackageFile: ADImpute_1.17.0.zip PackageFileSize: 2.301 MiB