Package: ADImpute Version: 1.17.0 Command: chmod a+r ADImpute -R && E:\biocbuild\bbs-3.21-bioc\R\bin\R.exe CMD build --keep-empty-dirs --no-resave-data ADImpute StartedAt: 2025-02-03 17:21:35 -0500 (Mon, 03 Feb 2025) EndedAt: 2025-02-03 17:22:27 -0500 (Mon, 03 Feb 2025) EllapsedTime: 52.3 seconds RetCode: 0 Status: OK PackageFile: ADImpute_1.17.0.tar.gz PackageFileSize: 2.117 MiB