Package: ADImpute Version: 1.17.0 Command: E:\biocbuild\bbs-3.21-bioc\R\bin\R.exe CMD INSTALL ADImpute StartedAt: 2025-02-09 16:20:47 -0500 (Sun, 09 Feb 2025) EndedAt: 2025-02-09 16:21:13 -0500 (Sun, 09 Feb 2025) EllapsedTime: 26.1 seconds RetCode: 0 Status: OK