Package: ADaCGH2 Version: 2.47.0 Maintainer: Ramon Diaz-Uriarte MaintainerEmail: rdiaz02 at gmail.com git_url: https://git.bioconductor.org/packages/ADaCGH2 git_branch: devel git_last_commit: a79cd26 git_last_commit_date: 2024-10-29 09:35:07 -0500 (Tue, 29 Oct 2024)