Package: ADaCGH2 Version: 2.47.0 Command: /Library/Frameworks/R.framework/Resources/bin/R CMD build --keep-empty-dirs --no-resave-data ADaCGH2 StartedAt: 2025-02-09 15:51:47 -0500 (Sun, 09 Feb 2025) EndedAt: 2025-02-09 15:51:50 -0500 (Sun, 09 Feb 2025) EllapsedTime: 3.5 seconds RetCode: 1 Status: ERROR PackageFile: None PackageFileSize: NA