Package: ADaCGH2 Version: 2.47.0 Command: /Library/Frameworks/R.framework/Resources/bin/R CMD INSTALL ADaCGH2 StartedAt: 2025-02-09 15:35:53 -0500 (Sun, 09 Feb 2025) EndedAt: 2025-02-09 15:35:54 -0500 (Sun, 09 Feb 2025) EllapsedTime: 1.3 seconds RetCode: 1 Status: ERROR