Package: ADaCGH2 Version: 2.47.0 Command: /home/biocbuild/bbs-3.21-bioc/R/bin/R CMD build --keep-empty-dirs --no-resave-data ADaCGH2 StartedAt: 2025-02-12 16:06:25 -0500 (Wed, 12 Feb 2025) EndedAt: 2025-02-12 16:06:26 -0500 (Wed, 12 Feb 2025) EllapsedTime: 1.0 seconds RetCode: 1 Status: ERROR PackageFile: None PackageFileSize: NA