Package: AMOUNTAIN Version: 1.33.0 Command: /Library/Frameworks/R.framework/Resources/bin/R CMD INSTALL AMOUNTAIN StartedAt: 2025-02-04 15:01:38 -0500 (Tue, 04 Feb 2025) EndedAt: 2025-02-04 15:01:43 -0500 (Tue, 04 Feb 2025) EllapsedTime: 5.0 seconds RetCode: 0 Status: OK