Package: AMOUNTAIN Version: 1.33.0 Command: /home/biocbuild/R/R/bin/R CMD build --keep-empty-dirs --no-resave-data AMOUNTAIN StartedAt: 2025-01-29 20:48:42 -0000 (Wed, 29 Jan 2025) EndedAt: 2025-01-29 20:49:03 -0000 (Wed, 29 Jan 2025) EllapsedTime: 21.0 seconds RetCode: 0 Status: OK PackageFile: AMOUNTAIN_1.33.0.tar.gz PackageFileSize: 792.3 KiB