Package: AMOUNTAIN Version: 1.33.0 Command: /home/biocbuild/R/R/bin/R CMD INSTALL AMOUNTAIN StartedAt: 2025-01-29 19:30:42 -0000 (Wed, 29 Jan 2025) EndedAt: 2025-01-29 19:31:07 -0000 (Wed, 29 Jan 2025) EllapsedTime: 25.3 seconds RetCode: 0 Status: OK