Package: AMOUNTAIN Version: 1.33.0 Command: /Library/Frameworks/R.framework/Resources/bin/R CMD check --install=check:AMOUNTAIN.install-out.txt --library=/Library/Frameworks/R.framework/Resources/library --no-vignettes --timings AMOUNTAIN_1.33.0.tar.gz StartedAt: 2025-02-09 19:02:09 -0500 (Sun, 09 Feb 2025) EndedAt: 2025-02-09 19:02:38 -0500 (Sun, 09 Feb 2025) EllapsedTime: 28.9 seconds RetCode: 0 Status: OK CheckDir: AMOUNTAIN.Rcheck Warnings: 0