Package: AMOUNTAIN Version: 1.33.0 Command: /home/biocbuild/bbs-3.21-bioc/R/bin/R CMD build --keep-empty-dirs --no-resave-data AMOUNTAIN StartedAt: 2025-02-04 16:06:23 -0500 (Tue, 04 Feb 2025) EndedAt: 2025-02-04 16:06:38 -0500 (Tue, 04 Feb 2025) EllapsedTime: 15.0 seconds RetCode: 0 Status: OK PackageFile: AMOUNTAIN_1.33.0.tar.gz PackageFileSize: 1.636 MiB