Package: AMOUNTAIN Version: 1.33.0 Command: rm -rf AMOUNTAIN.buildbin-libdir && mkdir AMOUNTAIN.buildbin-libdir && E:\biocbuild\bbs-3.21-bioc\R\bin\R.exe CMD INSTALL --build --library=AMOUNTAIN.buildbin-libdir AMOUNTAIN_1.33.0.tar.gz StartedAt: 2025-02-05 07:24:31 -0500 (Wed, 05 Feb 2025) EndedAt: 2025-02-05 07:24:48 -0500 (Wed, 05 Feb 2025) EllapsedTime: 16.2 seconds RetCode: 0 Status: OK PackageFile: AMOUNTAIN_1.33.0.zip PackageFileSize: 1.142 MiB