Package: AMOUNTAIN Version: 1.33.0 Command: E:\biocbuild\bbs-3.21-bioc\R\bin\R.exe CMD check --no-multiarch --install=check:AMOUNTAIN.install-out.txt --library=E:\biocbuild\bbs-3.21-bioc\R\library --no-vignettes --timings AMOUNTAIN_1.33.0.tar.gz StartedAt: 2025-02-04 23:00:23 -0500 (Tue, 04 Feb 2025) EndedAt: 2025-02-04 23:00:56 -0500 (Tue, 04 Feb 2025) EllapsedTime: 32.7 seconds RetCode: 0 Status: OK CheckDir: AMOUNTAIN.Rcheck Warnings: 0