Package: ANCOMBC Version: 2.9.1 Maintainer: Huang Lin MaintainerEmail: huanglinfrederick at gmail.com git_url: https://git.bioconductor.org/packages/ANCOMBC git_branch: devel git_last_commit: e178b0d git_last_commit_date: 2025-01-07 20:56:39 -0500 (Tue, 07 Jan 2025)