Package: ANCOMBC Version: 2.9.1 Command: rm -rf ANCOMBC.buildbin-libdir && mkdir ANCOMBC.buildbin-libdir && /Users/biocbuild/BBS/utils/build-universal.sh ANCOMBC_2.9.1.tar.gz /Library/Frameworks/R.framework/Resources/bin/R ANCOMBC.buildbin-libdir StartedAt: 2025-01-27 22:01:16 -0500 (Mon, 27 Jan 2025) EndedAt: 2025-01-27 22:01:23 -0500 (Mon, 27 Jan 2025) EllapsedTime: 7.2 seconds RetCode: 0 Status: OK PackageFile: ANCOMBC_2.9.1.tgz PackageFileSize: 1.44 MiB