Package: ANCOMBC Version: 2.9.1 Command: /home/biocbuild/R/R/bin/R CMD INSTALL ANCOMBC StartedAt: 2025-01-29 20:19:32 -0000 (Wed, 29 Jan 2025) EndedAt: 2025-01-29 20:19:59 -0000 (Wed, 29 Jan 2025) EllapsedTime: 26.5 seconds RetCode: 0 Status: OK