Package: ANCOMBC Version: 2.9.1 Command: /Library/Frameworks/R.framework/Resources/bin/R CMD build --keep-empty-dirs --no-resave-data ANCOMBC StartedAt: 2025-02-09 15:53:20 -0500 (Sun, 09 Feb 2025) EndedAt: 2025-02-09 16:02:50 -0500 (Sun, 09 Feb 2025) EllapsedTime: 570.1 seconds RetCode: 1 Status: ERROR PackageFile: None PackageFileSize: NA