Package: ANCOMBC Version: 2.9.1 Command: /Library/Frameworks/R.framework/Resources/bin/R CMD check --install=check:ANCOMBC.install-out.txt --library=/Library/Frameworks/R.framework/Resources/library --no-vignettes --timings ANCOMBC_2.9.1.tar.gz StartedAt: 2025-01-27 18:44:05 -0500 (Mon, 27 Jan 2025) EndedAt: 2025-01-27 18:48:54 -0500 (Mon, 27 Jan 2025) EllapsedTime: 288.8 seconds RetCode: 0 Status: OK CheckDir: ANCOMBC.Rcheck Warnings: 0