Package: ANCOMBC Version: 2.9.1 Command: /home/biocbuild/bbs-3.21-bioc/R/bin/R CMD build --keep-empty-dirs --no-resave-data ANCOMBC StartedAt: 2025-02-12 16:08:29 -0500 (Wed, 12 Feb 2025) EndedAt: 2025-02-12 16:17:04 -0500 (Wed, 12 Feb 2025) EllapsedTime: 515.6 seconds RetCode: 1 Status: ERROR PackageFile: None PackageFileSize: NA