Package: ANCOMBC Version: 2.9.1 Command: /home/biocbuild/bbs-3.21-bioc/R/bin/R CMD check --install=check:ANCOMBC.install-out.txt --library=/home/biocbuild/bbs-3.21-bioc/R/site-library --timings ANCOMBC_2.9.1.tar.gz StartedAt: 2025-01-27 19:54:18 -0500 (Mon, 27 Jan 2025) EndedAt: 2025-01-27 20:07:55 -0500 (Mon, 27 Jan 2025) EllapsedTime: 816.2 seconds RetCode: 0 Status: OK CheckDir: ANCOMBC.Rcheck Warnings: 0