Package: ANCOMBC Version: 2.9.1 Command: /home/biocbuild/bbs-3.21-bioc/R/bin/R CMD INSTALL ANCOMBC StartedAt: 2025-02-09 15:08:51 -0500 (Sun, 09 Feb 2025) EndedAt: 2025-02-09 15:09:10 -0500 (Sun, 09 Feb 2025) EllapsedTime: 18.8 seconds RetCode: 0 Status: OK