Package: ANCOMBC Version: 2.9.1 Command: rm -rf ANCOMBC.buildbin-libdir && mkdir ANCOMBC.buildbin-libdir && E:\biocbuild\bbs-3.21-bioc\R\bin\R.exe CMD INSTALL --build --library=ANCOMBC.buildbin-libdir ANCOMBC_2.9.1.tar.gz StartedAt: 2025-01-28 06:48:25 -0500 (Tue, 28 Jan 2025) EndedAt: 2025-01-28 06:49:03 -0500 (Tue, 28 Jan 2025) EllapsedTime: 37.5 seconds RetCode: 0 Status: OK PackageFile: ANCOMBC_2.9.1.zip PackageFileSize: 917 KiB