Package: ANCOMBC Version: 2.9.1 Command: chmod a+r ANCOMBC -R && E:\biocbuild\bbs-3.21-bioc\R\bin\R.exe CMD build --keep-empty-dirs --no-resave-data ANCOMBC StartedAt: 2025-02-09 17:12:26 -0500 (Sun, 09 Feb 2025) EndedAt: 2025-02-09 17:22:37 -0500 (Sun, 09 Feb 2025) EllapsedTime: 611.0 seconds RetCode: 1 Status: ERROR PackageFile: None PackageFileSize: NA