Package: ANCOMBC Version: 2.9.1 Command: E:\biocbuild\bbs-3.21-bioc\R\bin\R.exe CMD check --no-multiarch --install=check:ANCOMBC.install-out.txt --library=E:\biocbuild\bbs-3.21-bioc\R\library --no-vignettes --timings ANCOMBC_2.9.1.tar.gz StartedAt: 2025-01-27 22:21:21 -0500 (Mon, 27 Jan 2025) EndedAt: 2025-01-27 22:26:54 -0500 (Mon, 27 Jan 2025) EllapsedTime: 332.5 seconds RetCode: 0 Status: OK CheckDir: ANCOMBC.Rcheck Warnings: 0