Package: ANCOMBC Version: 2.9.1 Command: E:\biocbuild\bbs-3.21-bioc\R\bin\R.exe CMD INSTALL ANCOMBC StartedAt: 2025-02-09 15:57:48 -0500 (Sun, 09 Feb 2025) EndedAt: 2025-02-09 15:58:19 -0500 (Sun, 09 Feb 2025) EllapsedTime: 30.8 seconds RetCode: 0 Status: OK