Package: APAlyzer Version: 1.21.0 Command: /Library/Frameworks/R.framework/Resources/bin/R CMD build --keep-empty-dirs --no-resave-data APAlyzer StartedAt: 2025-02-03 16:08:18 -0500 (Mon, 03 Feb 2025) EndedAt: 2025-02-03 16:08:57 -0500 (Mon, 03 Feb 2025) EllapsedTime: 39.5 seconds RetCode: 0 Status: OK PackageFile: APAlyzer_1.21.0.tar.gz PackageFileSize: 3.962 MiB