Package: APAlyzer Version: 1.21.0 Command: /Library/Frameworks/R.framework/Resources/bin/R CMD check --install=check:APAlyzer.install-out.txt --library=/Library/Frameworks/R.framework/Resources/library --no-vignettes --timings APAlyzer_1.21.0.tar.gz StartedAt: 2025-02-03 18:40:19 -0500 (Mon, 03 Feb 2025) EndedAt: 2025-02-03 18:43:46 -0500 (Mon, 03 Feb 2025) EllapsedTime: 206.6 seconds RetCode: 0 Status: WARNINGS CheckDir: APAlyzer.Rcheck Warnings: 1