Package: APAlyzer Version: 1.21.0 Command: /home/biocbuild/R/R/bin/R CMD check --install=check:APAlyzer.install-out.txt --library=/home/biocbuild/R/R/site-library --no-vignettes --timings APAlyzer_1.21.0.tar.gz StartedAt: 2025-01-27 04:23:02 -0000 (Mon, 27 Jan 2025) EndedAt: 2025-01-27 05:05:01 -0000 (Mon, 27 Jan 2025) EllapsedTime: 2518.3 seconds RetCode: None Status: TIMEOUT CheckDir: APAlyzer.Rcheck Warnings: NA