Package: APAlyzer Version: 1.21.0 Command: rm -rf APAlyzer.buildbin-libdir && mkdir APAlyzer.buildbin-libdir && /Users/biocbuild/BBS/utils/build-universal.sh APAlyzer_1.21.0.tar.gz /Library/Frameworks/R.framework/Resources/bin/R APAlyzer.buildbin-libdir StartedAt: 2025-02-05 00:28:30 -0500 (Wed, 05 Feb 2025) EndedAt: 2025-02-05 00:29:29 -0500 (Wed, 05 Feb 2025) EllapsedTime: 59.7 seconds RetCode: 0 Status: OK PackageFile: APAlyzer_1.21.0.tgz PackageFileSize: 4.042 MiB