Package: APAlyzer Version: 1.21.0 Command: /Library/Frameworks/R.framework/Resources/bin/R CMD build --keep-empty-dirs --no-resave-data APAlyzer StartedAt: 2025-02-04 15:52:36 -0500 (Tue, 04 Feb 2025) EndedAt: 2025-02-04 15:54:27 -0500 (Tue, 04 Feb 2025) EllapsedTime: 110.8 seconds RetCode: 0 Status: OK PackageFile: APAlyzer_1.21.0.tar.gz PackageFileSize: 3.959 MiB