Package: APAlyzer Version: 1.21.0 Command: /Library/Frameworks/R.framework/Resources/bin/R CMD check --install=check:APAlyzer.install-out.txt --library=/Library/Frameworks/R.framework/Resources/library --no-vignettes --timings APAlyzer_1.21.0.tar.gz StartedAt: 2025-02-09 19:04:50 -0500 (Sun, 09 Feb 2025) EndedAt: 2025-02-09 19:13:04 -0500 (Sun, 09 Feb 2025) EllapsedTime: 494.1 seconds RetCode: 0 Status: WARNINGS CheckDir: APAlyzer.Rcheck Warnings: 1