Package: APAlyzer Version: 1.21.0 Command: /Library/Frameworks/R.framework/Resources/bin/R CMD INSTALL APAlyzer StartedAt: 2025-02-09 15:38:03 -0500 (Sun, 09 Feb 2025) EndedAt: 2025-02-09 15:39:01 -0500 (Sun, 09 Feb 2025) EllapsedTime: 57.9 seconds RetCode: 0 Status: OK