Package: APAlyzer Version: 1.21.0 Command: /home/biocbuild/bbs-3.21-bioc/R/bin/R CMD check --install=check:APAlyzer.install-out.txt --library=/home/biocbuild/bbs-3.21-bioc/R/site-library --timings APAlyzer_1.21.0.tar.gz StartedAt: 2025-02-09 20:02:43 -0500 (Sun, 09 Feb 2025) EndedAt: 2025-02-09 20:10:45 -0500 (Sun, 09 Feb 2025) EllapsedTime: 482.8 seconds RetCode: 0 Status: WARNINGS CheckDir: APAlyzer.Rcheck Warnings: 1