Package: APAlyzer Version: 1.21.0 Command: /home/biocbuild/bbs-3.21-bioc/R/bin/R CMD INSTALL APAlyzer StartedAt: 2025-02-09 15:39:53 -0500 (Sun, 09 Feb 2025) EndedAt: 2025-02-09 15:40:36 -0500 (Sun, 09 Feb 2025) EllapsedTime: 42.5 seconds RetCode: 0 Status: OK