Package: APAlyzer Version: 1.21.0 Command: chmod a+r APAlyzer -R && E:\biocbuild\bbs-3.21-bioc\R\bin\R.exe CMD build --keep-empty-dirs --no-resave-data APAlyzer StartedAt: 2025-02-03 17:27:40 -0500 (Mon, 03 Feb 2025) EndedAt: 2025-02-03 17:33:02 -0500 (Mon, 03 Feb 2025) EllapsedTime: 321.6 seconds RetCode: 0 Status: OK PackageFile: APAlyzer_1.21.0.tar.gz PackageFileSize: 3.501 MiB