Package: APAlyzer Version: 1.21.0 Command: E:\biocbuild\bbs-3.21-bioc\R\bin\R.exe CMD check --no-multiarch --install=check:APAlyzer.install-out.txt --library=E:\biocbuild\bbs-3.21-bioc\R\library --no-vignettes --timings APAlyzer_1.21.0.tar.gz StartedAt: 2025-02-09 22:38:47 -0500 (Sun, 09 Feb 2025) EndedAt: 2025-02-09 22:54:38 -0500 (Sun, 09 Feb 2025) EllapsedTime: 951.0 seconds RetCode: 0 Status: WARNINGS CheckDir: APAlyzer.Rcheck Warnings: 1