Package: APL Version: 1.11.2 Command: rm -rf APL.buildbin-libdir && mkdir APL.buildbin-libdir && /Users/biocbuild/BBS/utils/build-universal.sh APL_1.11.2.tar.gz /Library/Frameworks/R.framework/Resources/bin/R APL.buildbin-libdir StartedAt: 2025-02-09 22:05:58 -0500 (Sun, 09 Feb 2025) EndedAt: 2025-02-09 22:06:16 -0500 (Sun, 09 Feb 2025) EllapsedTime: 18.4 seconds RetCode: 0 Status: OK PackageFile: APL_1.11.2.tgz PackageFileSize: 2.913 MiB