Package: APL Version: 1.11.2 Command: /home/biocbuild/R/R/bin/R CMD INSTALL APL StartedAt: 2025-01-29 20:11:54 -0000 (Wed, 29 Jan 2025) EndedAt: 2025-01-29 20:12:51 -0000 (Wed, 29 Jan 2025) EllapsedTime: 57.1 seconds RetCode: 0 Status: OK