Package: APL Version: 1.11.2 Command: /home/biocbuild/bbs-3.21-bioc/R/bin/R CMD build --keep-empty-dirs --no-resave-data APL StartedAt: 2025-02-04 16:07:47 -0500 (Tue, 04 Feb 2025) EndedAt: 2025-02-04 16:11:14 -0500 (Tue, 04 Feb 2025) EllapsedTime: 206.2 seconds RetCode: 0 Status: OK PackageFile: APL_1.11.2.tar.gz PackageFileSize: 2.354 MiB