Package: APL Version: 1.11.2 Command: /home/biocbuild/bbs-3.21-bioc/R/bin/R CMD INSTALL APL StartedAt: 2025-02-09 15:38:05 -0500 (Sun, 09 Feb 2025) EndedAt: 2025-02-09 15:38:48 -0500 (Sun, 09 Feb 2025) EllapsedTime: 42.6 seconds RetCode: 0 Status: OK