Package: APL Version: 1.11.2 Command: chmod a+r APL -R && E:\biocbuild\bbs-3.21-bioc\R\bin\R.exe CMD build --keep-empty-dirs --no-resave-data APL StartedAt: 2025-02-09 17:15:19 -0500 (Sun, 09 Feb 2025) EndedAt: 2025-02-09 17:19:44 -0500 (Sun, 09 Feb 2025) EllapsedTime: 264.7 seconds RetCode: 0 Status: OK PackageFile: APL_1.11.2.tar.gz PackageFileSize: 1.168 MiB