Package: APL Version: 1.11.2 Command: E:\biocbuild\bbs-3.21-bioc\R\bin\R.exe CMD check --no-multiarch --install=check:APL.install-out.txt --library=E:\biocbuild\bbs-3.21-bioc\R\library --no-vignettes --timings APL_1.11.2.tar.gz StartedAt: 2025-02-04 23:04:35 -0500 (Tue, 04 Feb 2025) EndedAt: 2025-02-04 23:09:47 -0500 (Tue, 04 Feb 2025) EllapsedTime: 312.4 seconds RetCode: 0 Status: OK CheckDir: APL.Rcheck Warnings: 0