Package: APL Version: 1.11.2 Command: E:\biocbuild\bbs-3.21-bioc\R\bin\R.exe CMD INSTALL APL StartedAt: 2025-02-09 16:49:10 -0500 (Sun, 09 Feb 2025) EndedAt: 2025-02-09 16:50:04 -0500 (Sun, 09 Feb 2025) EllapsedTime: 53.7 seconds RetCode: 0 Status: OK