Package: ARRmNormalization Version: 1.47.0 Command: /Library/Frameworks/R.framework/Resources/bin/R CMD INSTALL ARRmNormalization StartedAt: 2025-02-09 15:01:56 -0500 (Sun, 09 Feb 2025) EndedAt: 2025-02-09 15:02:02 -0500 (Sun, 09 Feb 2025) EllapsedTime: 5.8 seconds RetCode: 0 Status: OK