Package: ARRmNormalization Version: 1.47.0 Command: /home/biocbuild/R/R/bin/R CMD build --keep-empty-dirs --no-resave-data ARRmNormalization StartedAt: 2025-01-29 20:51:34 -0000 (Wed, 29 Jan 2025) EndedAt: 2025-01-29 20:52:05 -0000 (Wed, 29 Jan 2025) EllapsedTime: 31.0 seconds RetCode: 0 Status: OK PackageFile: ARRmNormalization_1.47.0.tar.gz PackageFileSize: 1.073 MiB