Package: ARRmNormalization Version: 1.47.0 Command: rm -rf ARRmNormalization.buildbin-libdir && mkdir ARRmNormalization.buildbin-libdir && E:\biocbuild\bbs-3.21-bioc\R\bin\R.exe CMD INSTALL --build --library=ARRmNormalization.buildbin-libdir ARRmNormalization_1.47.0.tar.gz StartedAt: 2025-02-10 07:13:32 -0500 (Mon, 10 Feb 2025) EndedAt: 2025-02-10 07:14:04 -0500 (Mon, 10 Feb 2025) EllapsedTime: 32.2 seconds RetCode: 0 Status: OK PackageFile: ARRmNormalization_1.47.0.zip PackageFileSize: 1.024 MiB