Package: ASGSCA Version: 1.41.0 Command: /Library/Frameworks/R.framework/Resources/bin/R CMD INSTALL ASGSCA StartedAt: 2025-02-09 15:01:12 -0500 (Sun, 09 Feb 2025) EndedAt: 2025-02-09 15:01:16 -0500 (Sun, 09 Feb 2025) EllapsedTime: 4.3 seconds RetCode: 0 Status: OK