Package: ASGSCA Version: 1.41.0 Command: /home/biocbuild/R/R/bin/R CMD build --keep-empty-dirs --no-resave-data ASGSCA StartedAt: 2025-01-29 20:53:02 -0000 (Wed, 29 Jan 2025) EndedAt: 2025-01-29 20:57:08 -0000 (Wed, 29 Jan 2025) EllapsedTime: 246.1 seconds RetCode: 0 Status: OK PackageFile: ASGSCA_1.41.0.tar.gz PackageFileSize: 1.275 MiB