Package: ASGSCA Version: 1.41.0 Command: /Library/Frameworks/R.framework/Resources/bin/R CMD build --keep-empty-dirs --no-resave-data ASGSCA StartedAt: 2025-02-09 15:54:49 -0500 (Sun, 09 Feb 2025) EndedAt: 2025-02-09 15:57:37 -0500 (Sun, 09 Feb 2025) EllapsedTime: 167.8 seconds RetCode: 0 Status: OK PackageFile: ASGSCA_1.41.0.tar.gz PackageFileSize: 1.293 MiB